BEGIN:VCALENDAR
VERSION:2.0
PRODID:-//Hudson Valley Folk Guild - ECPv6.15.13//NONSGML v1.0//EN
CALSCALE:GREGORIAN
METHOD:PUBLISH
X-WR-CALNAME:Hudson Valley Folk Guild
X-ORIGINAL-URL:https://hudsonvalleyfolkguild.org
X-WR-CALDESC:Events for Hudson Valley Folk Guild
REFRESH-INTERVAL;VALUE=DURATION:PT1H
X-Robots-Tag:noindex
X-PUBLISHED-TTL:PT1H
BEGIN:VTIMEZONE
TZID:America/New_York
BEGIN:DAYLIGHT
TZOFFSETFROM:-0500
TZOFFSETTO:-0400
TZNAME:EDT
DTSTART:20250309T070000
END:DAYLIGHT
BEGIN:STANDARD
TZOFFSETFROM:-0400
TZOFFSETTO:-0500
TZNAME:EST
DTSTART:20251102T060000
END:STANDARD
BEGIN:DAYLIGHT
TZOFFSETFROM:-0500
TZOFFSETTO:-0400
TZNAME:EDT
DTSTART:20260308T070000
END:DAYLIGHT
BEGIN:STANDARD
TZOFFSETFROM:-0400
TZOFFSETTO:-0500
TZNAME:EST
DTSTART:20261101T060000
END:STANDARD
BEGIN:DAYLIGHT
TZOFFSETFROM:-0500
TZOFFSETTO:-0400
TZNAME:EDT
DTSTART:20270314T070000
END:DAYLIGHT
BEGIN:STANDARD
TZOFFSETFROM:-0400
TZOFFSETTO:-0500
TZNAME:EST
DTSTART:20271107T060000
END:STANDARD
END:VTIMEZONE
BEGIN:VEVENT
DTSTART;TZID=America/New_York:20260502T190000
DTEND;TZID=America/New_York:20260502T220000
DTSTAMP:20260422T184004
CREATED:20251221T165647Z
LAST-MODIFIED:20260413T123337Z
UID:3355-1777748400-1777759200@hudsonvalleyfolkguild.org
SUMMARY:Open Mic via Zoom: Paul Maloney
DESCRIPTION:After 40 years of playing Fender bass with bands in San Francisco\, Richmond\, Virginia and the Hudson Valley\, Paul Maloney has expanded his horizons as a popular singer/songwriter.  \nHis original songs\, baritone voice and captivating performance style have been entertaining audiences throughout the Northeast for more than a decade. Influenced by Jesse Winchester\, John Hiatt\, Mickey Newbury\, Joan Armatrading\, Tom Waits\, Laura Nyro and the Subdudes\, Paul’s Contemporary/Americana music is an engaging blend of expressive instrumentation and poignant storytelling. \n\n \n\nConnect via Zoom:\nTopic: HVFG 4th Saturday Open Mic via Zoom \n  \nFor the Zoom link\, please signup for our email newsletters\, or contact Ethan Campbell at ethan.1247@gmail.com. \n\n  \nOPEN MIC\nMusic starts at 7:00\, but if you arrive at 6:45 you can spend some time catching up with friends\, helping each other sound check\, and just generally enjoying the mellow Folk Guild vibe. \nEthan Campbell will be the Zoom maestro\, so if you’re a musician and you’re planning to perform\, let Ethan know as soon as you come in from the Waiting Room.  He’ll get you into the next available slot.  Everybody gets two songs or eight (8) minutes\, whichever comes first.
URL:https://hudsonvalleyfolkguild.org/event/open-mic-via-zoom-paul-maloney/
LOCATION:Zoom
CATEGORIES:Open Mic via Zoom
ATTACH;FMTTYPE=image/jpeg:https://hudsonvalleyfolkguild.org/wp-content/uploads/2020/12/Paul-Maloney-rotated.jpg
END:VEVENT
BEGIN:VEVENT
DTSTART;TZID=America/New_York:20260606T190000
DTEND;TZID=America/New_York:20260606T220000
DTSTAMP:20260422T184004
CREATED:20251221T165805Z
LAST-MODIFIED:20260417T134616Z
UID:3357-1780772400-1780783200@hudsonvalleyfolkguild.org
SUMMARY:Open Mic via Zoom: Lynda and Bruce
DESCRIPTION:Lynda Sales started singing as soon as she could talk. She took classical piano for most of her childhood. At thirteen\, she started playing the guitar and singing folk songs\, plus a bit of rock and roll. As an adult\, she sang in many area musicals. After being sidelined from the guitar due to a badly broken wrist\, she learned to play the ukulele\, which is now her instrument of choice. Lynda sang covers until four years ago\, when she started writing her own songs … finally.  \nBruce Engholm started out playing the guitar. When Lynda switched to the uke (at his urging) he made the change as well. His favorite instrument is the banjolele. He studied Bluegrass style fingerpicking last year. Lynda feels it adds a lot to her songs.  \nLynda & Bruce perform at local and Zoom open mics regularly\, play with a Gospel group\, various uke groups\, and at some local venues. After a lot of procrastination\, they are starting to record their music.  \nLynda & Bruce live in Kingston\, N.Y. with a dog\, two cats and a tortoise. \n\n \n\nConnect via Zoom:\nTopic: HVFG 4th Saturday Open Mic via Zoom \n  \nFor the Zoom link\, please signup for our email newsletters\, or contact Ethan Campbell at ethan.1247@gmail.com. \n\n  \nOPEN MIC\nMusic starts at 7:00\, but if you arrive at 6:45 you can spend some time catching up with friends\, helping each other sound check\, and just generally enjoying the mellow Folk Guild vibe. \nEthan Campbell will be the Zoom maestro\, so if you’re a musician and you’re planning to perform\, let Ethan know as soon as you come in from the Waiting Room.  He’ll get you into the next available slot.  Everybody gets two songs or eight (8) minutes\, whichever comes first.
URL:https://hudsonvalleyfolkguild.org/event/open-mic-via-zoom-lynda-and-bruce/
LOCATION:Zoom
CATEGORIES:Open Mic via Zoom
ATTACH;FMTTYPE=image/png:https://hudsonvalleyfolkguild.org/wp-content/uploads/2026/04/Lynda-Bruce.png
END:VEVENT
END:VCALENDAR