BEGIN:VCALENDAR
VERSION:2.0
PRODID:-//Hudson Valley Folk Guild - ECPv6.15.13//NONSGML v1.0//EN
CALSCALE:GREGORIAN
METHOD:PUBLISH
X-ORIGINAL-URL:https://hudsonvalleyfolkguild.org
X-WR-CALDESC:Events for Hudson Valley Folk Guild
REFRESH-INTERVAL;VALUE=DURATION:PT1H
X-Robots-Tag:noindex
X-PUBLISHED-TTL:PT1H
BEGIN:VTIMEZONE
TZID:America/New_York
BEGIN:DAYLIGHT
TZOFFSETFROM:-0500
TZOFFSETTO:-0400
TZNAME:EDT
DTSTART:20220313T070000
END:DAYLIGHT
BEGIN:STANDARD
TZOFFSETFROM:-0400
TZOFFSETTO:-0500
TZNAME:EST
DTSTART:20221106T060000
END:STANDARD
BEGIN:DAYLIGHT
TZOFFSETFROM:-0500
TZOFFSETTO:-0400
TZNAME:EDT
DTSTART:20230312T070000
END:DAYLIGHT
BEGIN:STANDARD
TZOFFSETFROM:-0400
TZOFFSETTO:-0500
TZNAME:EST
DTSTART:20231105T060000
END:STANDARD
BEGIN:DAYLIGHT
TZOFFSETFROM:-0500
TZOFFSETTO:-0400
TZNAME:EDT
DTSTART:20240310T070000
END:DAYLIGHT
BEGIN:STANDARD
TZOFFSETFROM:-0400
TZOFFSETTO:-0500
TZNAME:EST
DTSTART:20241103T060000
END:STANDARD
END:VTIMEZONE
BEGIN:VEVENT
DTSTART;TZID=America/New_York:20231223T193000
DTEND;TZID=America/New_York:20231223T220000
DTSTAMP:20260421T222322
CREATED:20230825T152537Z
LAST-MODIFIED:20231214T162520Z
UID:2143-1703359800-1703368800@hudsonvalleyfolkguild.org
SUMMARY:Open Mic via Zoom: Jerry Korobow
DESCRIPTION:For Jerry Korobow\, throughout over five decades and many professions — social worker\, school music teacher\, actor\, restaurant/bar manager\, attorney\, and synagogue cantor — music has been the constant. Folk\, Blues\, bluegrass\, Celtic\, country\, chanteys\, show tunes\, children’s music\, cantorial music and opera have all been part of an ongoing musical journey. Still a working attorney and cantor at Temple Beth Sholom of Flushing\, New York\, Jerry’s goal is always to engage others and encourage participation\, whether singing with children\, a congregation\, or a concert audience. In August of 2022\, Jerry played the Philadelphia Folk Festival after a hiatus of some fifty years. He was the subject of a feature article in the December 7\, 2008 New York Times\, “The Cantor Carries A Six String”. \nContact Jerry at:  jkorobow@aol.com \n\n \n\nConnect via Zoom:\nTopic: HVFG 4th Saturday Open Mic via Zoom \n  \nFor the Zoom link\, please signup for our email newsletters\, or contact Ethan Campbell at ethan.1247@gmail.com. \n\n  \nOPEN MIC\nMusic starts at 7:30\, but if you arrive at 7:00 you can spend some time catching up with friends\, helping each other sound check\, and just generally enjoying the mellow Folk Guild vibe. \nEthan Campbell will be the Zoom maestro\, so if you’re a musician and you’re planning to perform\, let Ethan know as soon as you come in from the Waiting Room.  He’ll get you into the next available slot.  Everybody gets two songs or eight (8) minutes\, whichever comes first.
URL:https://hudsonvalleyfolkguild.org/event/open-mic-via-zoom-jerry-korobow/
LOCATION:Zoom
CATEGORIES:Open Mic via Zoom
ATTACH;FMTTYPE=image/jpeg:https://hudsonvalleyfolkguild.org/wp-content/uploads/2023/12/Jerry-Korobow-Promo-Photo.jpg
END:VEVENT
END:VCALENDAR