BEGIN:VCALENDAR
VERSION:2.0
PRODID:-//Hudson Valley Folk Guild - ECPv6.15.13//NONSGML v1.0//EN
CALSCALE:GREGORIAN
METHOD:PUBLISH
X-ORIGINAL-URL:https://hudsonvalleyfolkguild.org
X-WR-CALDESC:Events for Hudson Valley Folk Guild
REFRESH-INTERVAL;VALUE=DURATION:PT1H
X-Robots-Tag:noindex
X-PUBLISHED-TTL:PT1H
BEGIN:VTIMEZONE
TZID:America/New_York
BEGIN:DAYLIGHT
TZOFFSETFROM:-0500
TZOFFSETTO:-0400
TZNAME:EDT
DTSTART:20220313T070000
END:DAYLIGHT
BEGIN:STANDARD
TZOFFSETFROM:-0400
TZOFFSETTO:-0500
TZNAME:EST
DTSTART:20221106T060000
END:STANDARD
BEGIN:DAYLIGHT
TZOFFSETFROM:-0500
TZOFFSETTO:-0400
TZNAME:EDT
DTSTART:20230312T070000
END:DAYLIGHT
BEGIN:STANDARD
TZOFFSETFROM:-0400
TZOFFSETTO:-0500
TZNAME:EST
DTSTART:20231105T060000
END:STANDARD
BEGIN:DAYLIGHT
TZOFFSETFROM:-0500
TZOFFSETTO:-0400
TZNAME:EDT
DTSTART:20240310T070000
END:DAYLIGHT
BEGIN:STANDARD
TZOFFSETFROM:-0400
TZOFFSETTO:-0500
TZNAME:EST
DTSTART:20241103T060000
END:STANDARD
END:VTIMEZONE
BEGIN:VEVENT
DTSTART;TZID=America/New_York:20230923T193000
DTEND;TZID=America/New_York:20230923T220000
DTSTAMP:20260422T031952
CREATED:20230825T151808Z
LAST-MODIFIED:20230917T154613Z
UID:2137-1695497400-1695506400@hudsonvalleyfolkguild.org
SUMMARY:Open Mic via Zoom: Lisa Dudley
DESCRIPTION:This month the Hudson Valley Folk Guild is pleased and proud to present as our featured performer Lisa Dudley.  Lisa is blessed with a heart for music\, and she is well known to Folk Guild members. Lisa joined us many years ago\, after moving from Tennessee to marry the “Magnificent Daniel Dudley”\, as she likes to refer to him.\n\nLisa always says\, “The Folk Guild is a safe space to try out new material” and she has promised to debut a new song for us this month.  Lisa has recorded 5 CDs over the course of her music career\, and she believes in healing wounded hearts\, one song at a time. Her album Broken Purple Heart was recorded live at St. John’s Episcopal Church in Kingston to raise money for veterans.\n\nLisa is a prolific songwriter and a fan favorite\, with a mission to sing you through your grief and heal broken hearts.  If you ask Alexa to play Lisa Dudley\, all her studio recordings come up streaming and you can listen all day!\n\nFOR MORE INFORMATION: www.LisaDudley.com  or like her on Facebook: @LisaDudley.16    Twitter: @LisaDudleyMusic   Instagram: @lisa_dudley_music\n\n– Also streaming on Apple Music and Spotify –
URL:https://hudsonvalleyfolkguild.org/event/open-mic-via-zoom-lisa-dudley/
LOCATION:Zoom
CATEGORIES:Open Mic via Zoom
ATTACH;FMTTYPE=image/jpeg:https://hudsonvalleyfolkguild.org/wp-content/uploads/2023/09/Lisa-Dudley-pic.jpeg
END:VEVENT
END:VCALENDAR