BEGIN:VCALENDAR
VERSION:2.0
PRODID:-//Hudson Valley Folk Guild - ECPv6.15.13//NONSGML v1.0//EN
CALSCALE:GREGORIAN
METHOD:PUBLISH
X-WR-CALNAME:Hudson Valley Folk Guild
X-ORIGINAL-URL:https://hudsonvalleyfolkguild.org
X-WR-CALDESC:Events for Hudson Valley Folk Guild
REFRESH-INTERVAL;VALUE=DURATION:PT1H
X-Robots-Tag:noindex
X-PUBLISHED-TTL:PT1H
BEGIN:VTIMEZONE
TZID:America/New_York
BEGIN:DAYLIGHT
TZOFFSETFROM:-0500
TZOFFSETTO:-0400
TZNAME:EDT
DTSTART:20210314T070000
END:DAYLIGHT
BEGIN:STANDARD
TZOFFSETFROM:-0400
TZOFFSETTO:-0500
TZNAME:EST
DTSTART:20211107T060000
END:STANDARD
BEGIN:DAYLIGHT
TZOFFSETFROM:-0500
TZOFFSETTO:-0400
TZNAME:EDT
DTSTART:20220313T070000
END:DAYLIGHT
BEGIN:STANDARD
TZOFFSETFROM:-0400
TZOFFSETTO:-0500
TZNAME:EST
DTSTART:20221106T060000
END:STANDARD
BEGIN:DAYLIGHT
TZOFFSETFROM:-0500
TZOFFSETTO:-0400
TZNAME:EDT
DTSTART:20230312T070000
END:DAYLIGHT
BEGIN:STANDARD
TZOFFSETFROM:-0400
TZOFFSETTO:-0500
TZNAME:EST
DTSTART:20231105T060000
END:STANDARD
END:VTIMEZONE
BEGIN:VEVENT
DTSTART;TZID=America/New_York:20221126T190000
DTEND;TZID=America/New_York:20221126T220000
DTSTAMP:20260422T183117
CREATED:20220812T202525Z
LAST-MODIFIED:20221121T043433Z
UID:1595-1669489200-1669500000@hudsonvalleyfolkguild.org
SUMMARY:Open Mic via Zoom: Dennis Douglas
DESCRIPTION:Dennis Douglas\, our Feature Performer this month\, is known for his clear and warm tenor vocals and nylon acoustic arrangements on his vintage 1965 classical guitar\, a Swedish “Tarrega” model (via Fender). His sets include originals in the Folk and singer-songwriter vein\, as well as covers by Dylan\, Arlo\, Lightfoot and some relative unknowns. He loves living in the Hudson Valley (since 2002)\, with the diverse music and arts communities and the richness of the ridges\, valleys\, and rivers. \nFrom about 1975 to 1990\, Dennis was a freelance musician in NYC and pursued a career in a variety of settings that reflected his broad tastes. He played solo and duo gigs in the Village Folk clubs\, sang on other writers’ demos\, and did voice-overs and jingles. He was musical director of The First All-Children’s Theatre (First ACT)\, overseeing the creation of original musicals for children and teens. He also sang in a variety of early music ensembles\, choirs\, and choral groups\, and was a co-founder of a 12-voice jazz group\, Vocal Jazz\, Inc. \nAfter a second career as a technical writer and instructional designer in the software industry\, Dennis returned to solo performing and songwriting. In 2022\, he released Ferris Wheel\, an album of his favorite originals\, produced locally. You can hear all of the tracks at dennisdouglasmusic.com. \nDennis can be reached at ddwebmail@gmail.com. \n\n\n\n\n\nConnect via Zoom:\nTopic: HVFG 4th Saturday Open Mic via Zoom \n  \nFor the Zoom link\, please signup for our email newsletters\, or contact Ethan Campbell at ethan.1247@gmail.com. \n\n  \nOPEN MIC\nMusic starts at 7:30\, but if you arrive at 7:00 you can spend some time catching up with friends\, helping each other sound check\, and just generally enjoying the mellow Folk Guild vibe. \nEthan Campbell will be the Zoom maestro\, so if you’re a musician and you’re planning to perform\, let Ethan know as soon as you come in from the Waiting Room.  He’ll get you into the next available slot.  Everybody gets two songs or eight (8) minutes\, whichever comes first.
URL:https://hudsonvalleyfolkguild.org/event/open-mic-via-zoom-dennis-douglas/
LOCATION:Zoom
CATEGORIES:Open Mic via Zoom
ATTACH;FMTTYPE=image/jpeg:https://hudsonvalleyfolkguild.org/wp-content/uploads/2022/08/Dennis-Pic-1.jpg
END:VEVENT
END:VCALENDAR