BEGIN:VCALENDAR
VERSION:2.0
PRODID:-//Hudson Valley Folk Guild - ECPv6.15.13//NONSGML v1.0//EN
CALSCALE:GREGORIAN
METHOD:PUBLISH
X-ORIGINAL-URL:https://hudsonvalleyfolkguild.org
X-WR-CALDESC:Events for Hudson Valley Folk Guild
REFRESH-INTERVAL;VALUE=DURATION:PT1H
X-Robots-Tag:noindex
X-PUBLISHED-TTL:PT1H
BEGIN:VTIMEZONE
TZID:America/New_York
BEGIN:DAYLIGHT
TZOFFSETFROM:-0500
TZOFFSETTO:-0400
TZNAME:EDT
DTSTART:20240310T070000
END:DAYLIGHT
BEGIN:STANDARD
TZOFFSETFROM:-0400
TZOFFSETTO:-0500
TZNAME:EST
DTSTART:20241103T060000
END:STANDARD
BEGIN:DAYLIGHT
TZOFFSETFROM:-0500
TZOFFSETTO:-0400
TZNAME:EDT
DTSTART:20250309T070000
END:DAYLIGHT
BEGIN:STANDARD
TZOFFSETFROM:-0400
TZOFFSETTO:-0500
TZNAME:EST
DTSTART:20251102T060000
END:STANDARD
BEGIN:DAYLIGHT
TZOFFSETFROM:-0500
TZOFFSETTO:-0400
TZNAME:EDT
DTSTART:20260308T070000
END:DAYLIGHT
BEGIN:STANDARD
TZOFFSETFROM:-0400
TZOFFSETTO:-0500
TZNAME:EST
DTSTART:20261101T060000
END:STANDARD
END:VTIMEZONE
BEGIN:VEVENT
DTSTART;TZID=America/New_York:20250628T190000
DTEND;TZID=America/New_York:20250628T213000
DTSTAMP:20260421T142757
CREATED:20250102T181217Z
LAST-MODIFIED:20250612T014034Z
UID:2836-1751137200-1751146200@hudsonvalleyfolkguild.org
SUMMARY:Open Mic via Zoom: Ethan Campbell
DESCRIPTION:Ethan Campbell has been writing words and music his entire adult life\, both as a solo artist and in a full band setting. Ethan grew up in the Golden Age of Classic Rock\, and his influences cover a wide spectrum\, from Folk and Country to British Invasion to Heavy Metal to Baroque piano pieces. Many of these great Classic songs are in his repertoire of cover tunes\, and listeners have been heard to remark that his versions compare favorably with the originals. \nEthan’s own original songs are often moody and reflective\, and range from peaceful ballads to raucous rockers\, sometimes betraying a sly sense of humor that invites the listener to ponder whether things are precisely as they seem. \nContact: ethan.1247@gmail.com \n\n \n\nConnect via Zoom:\nTopic: HVFG 4th Saturday Open Mic via Zoom \n  \nFor the Zoom link\, please signup for our email newsletters\, or contact Ethan Campbell at ethan.1247@gmail.com. \n\n  \nOPEN MIC\nMusic starts at 7:00\, but if you arrive at 6:30 you can spend some time catching up with friends\, helping each other sound check\, and just generally enjoying the mellow Folk Guild vibe. \nEthan Campbell will be the Zoom maestro\, so if you’re a musician and you’re planning to perform\, let Ethan know as soon as you come in from the Waiting Room.  He’ll get you into the next available slot.  Everybody gets two songs or eight (8) minutes\, whichever comes first.
URL:https://hudsonvalleyfolkguild.org/event/open-mic-via-zoom-dennis-glendenning/
LOCATION:Zoom
CATEGORIES:Open Mic via Zoom
ATTACH;FMTTYPE=image/jpeg:https://hudsonvalleyfolkguild.org/wp-content/uploads/2020/12/Ethan-Campbell-cropped-e1609177566101.jpg
END:VEVENT
END:VCALENDAR