BEGIN:VCALENDAR
VERSION:2.0
PRODID:-//Hudson Valley Folk Guild - ECPv6.15.13//NONSGML v1.0//EN
CALSCALE:GREGORIAN
METHOD:PUBLISH
X-ORIGINAL-URL:https://hudsonvalleyfolkguild.org
X-WR-CALDESC:Events for Hudson Valley Folk Guild
REFRESH-INTERVAL;VALUE=DURATION:PT1H
X-Robots-Tag:noindex
X-PUBLISHED-TTL:PT1H
BEGIN:VTIMEZONE
TZID:America/New_York
BEGIN:DAYLIGHT
TZOFFSETFROM:-0500
TZOFFSETTO:-0400
TZNAME:EDT
DTSTART:20240310T070000
END:DAYLIGHT
BEGIN:STANDARD
TZOFFSETFROM:-0400
TZOFFSETTO:-0500
TZNAME:EST
DTSTART:20241103T060000
END:STANDARD
BEGIN:DAYLIGHT
TZOFFSETFROM:-0500
TZOFFSETTO:-0400
TZNAME:EDT
DTSTART:20250309T070000
END:DAYLIGHT
BEGIN:STANDARD
TZOFFSETFROM:-0400
TZOFFSETTO:-0500
TZNAME:EST
DTSTART:20251102T060000
END:STANDARD
BEGIN:DAYLIGHT
TZOFFSETFROM:-0500
TZOFFSETTO:-0400
TZNAME:EDT
DTSTART:20260308T070000
END:DAYLIGHT
BEGIN:STANDARD
TZOFFSETFROM:-0400
TZOFFSETTO:-0500
TZNAME:EST
DTSTART:20261101T060000
END:STANDARD
END:VTIMEZONE
BEGIN:VEVENT
DTSTART;TZID=America/New_York:20250125T190000
DTEND;TZID=America/New_York:20250125T213000
DTSTAMP:20260421T063211
CREATED:20250102T180036Z
LAST-MODIFIED:20250106T220925Z
UID:2824-1737831600-1737840600@hudsonvalleyfolkguild.org
SUMMARY:Open Mic via Zoom: Ann Ramsey
DESCRIPTION:An accomplished fingerstyle guitar player\, Ann Ramsey is a new songwriter from Wilmington DE. Inspired by traditional story-songs and ballads\, she’s written 55 songs since she began writing in 2022. Her songs are described as “entrancing\,” and “haunting.” Her style is inspired by the work of Richard Thompson\, Joan Baez\, and Roseanne Cash. \nAnn is active in the Philadelphia Area Songwriters Alliance (PASAmusic.org)\, and the Philadelphia Folksong Society (PFS.org). She’s listed on the artists roster of the Delaware Division of the Arts\, from which she was awarded Artist Opportunity grants for FY 2023 & 2025. She’s an alum of Eliza Gilkyson’s Winter and Fall 2024 Casa de Musica intensive songwriting workshops\, and Richard Thompson’s 2023 & 2024 Frets & Refrains songwriting camp. She is credited for the Harmony Vocals on Jon Burrowes’ 2024 second album. \nAnn is working on her own first recording\, slated for release in early 2025. For original demos: https://soundcloud.com/annramse \nAnn can be reached at: annramsey@mac.com \n\n \n\nConnect via Zoom:\nTopic: HVFG 4th Saturday Open Mic via Zoom \n  \nFor the Zoom link\, please signup for our email newsletters\, or contact Ethan Campbell at ethan.1247@gmail.com. \n\n  \nOPEN MIC\nMusic starts at 7:00\, but if you arrive at 6:30 you can spend some time catching up with friends\, helping each other sound check\, and just generally enjoying the mellow Folk Guild vibe. \nEthan Campbell will be the Zoom maestro\, so if you’re a musician and you’re planning to perform\, let Ethan know as soon as you come in from the Waiting Room.  He’ll get you into the next available slot.  Everybody gets two songs or eight (8) minutes\, whichever comes first.
URL:https://hudsonvalleyfolkguild.org/event/open-mic-via-zoom-ann-ramsey/
LOCATION:Zoom
CATEGORIES:Open Mic via Zoom
ATTACH;FMTTYPE=image/jpeg:https://hudsonvalleyfolkguild.org/wp-content/uploads/2025/01/Ann-Ramsey.jpeg
END:VEVENT
END:VCALENDAR