BEGIN:VCALENDAR
VERSION:2.0
PRODID:-//Hudson Valley Folk Guild - ECPv6.15.13//NONSGML v1.0//EN
CALSCALE:GREGORIAN
METHOD:PUBLISH
X-WR-CALNAME:Hudson Valley Folk Guild
X-ORIGINAL-URL:https://hudsonvalleyfolkguild.org
X-WR-CALDESC:Events for Hudson Valley Folk Guild
REFRESH-INTERVAL;VALUE=DURATION:PT1H
X-Robots-Tag:noindex
X-PUBLISHED-TTL:PT1H
BEGIN:VTIMEZONE
TZID:America/New_York
BEGIN:DAYLIGHT
TZOFFSETFROM:-0500
TZOFFSETTO:-0400
TZNAME:EDT
DTSTART:20230312T070000
END:DAYLIGHT
BEGIN:STANDARD
TZOFFSETFROM:-0400
TZOFFSETTO:-0500
TZNAME:EST
DTSTART:20231105T060000
END:STANDARD
BEGIN:DAYLIGHT
TZOFFSETFROM:-0500
TZOFFSETTO:-0400
TZNAME:EDT
DTSTART:20240310T070000
END:DAYLIGHT
BEGIN:STANDARD
TZOFFSETFROM:-0400
TZOFFSETTO:-0500
TZNAME:EST
DTSTART:20241103T060000
END:STANDARD
BEGIN:DAYLIGHT
TZOFFSETFROM:-0500
TZOFFSETTO:-0400
TZNAME:EDT
DTSTART:20250309T070000
END:DAYLIGHT
BEGIN:STANDARD
TZOFFSETFROM:-0400
TZOFFSETTO:-0500
TZNAME:EST
DTSTART:20251102T060000
END:STANDARD
END:VTIMEZONE
BEGIN:VEVENT
DTSTART;TZID=America/New_York:20240427T193000
DTEND;TZID=America/New_York:20240427T220000
DTSTAMP:20260421T135134
CREATED:20231229T163505Z
LAST-MODIFIED:20240410T201358Z
UID:2305-1714246200-1714255200@hudsonvalleyfolkguild.org
SUMMARY:Open Mic via Zoom: Dennis Douglas
DESCRIPTION:Dennis Douglas is known for his clear and warm tenor vocals and nylon-acoustic arrangements on his vintage ’65 classical guitar (Swedish made/sold by Fender). His sets mix originals with covers by familiar folk artists and some undiscovered gems. \nDennis moved to NYC in 1974 and sang in Greenwich Village clubs in the fading days of the Folk scene there. During about 15 years as a freelance musician\, he did studio vocals\, sang in early music ensembles and choral groups\, and even a 12-voice vocal jazz group. \nAfter a second career as a technical writer in the software industry\, Dennis returned to solo performing and songwriting. In the Hudson Valley since 2002\, he loves being part of the local music community. \nIn 2022\, he released Ferris Wheel\, an album of his favorite originals. You can hear all of the tracks for free at dennisdouglasmusic.com (with lyrics) or on popular streaming services. \n\n \n\nConnect via Zoom:\nTopic: HVFG 4th Saturday Open Mic via Zoom \n  \nFor the Zoom link\, please signup for our email newsletters\, or contact Ethan Campbell at ethan.1247@gmail.com. \n\n  \nOPEN MIC\nMusic starts at 7:30\, but if you arrive at 7:00 you can spend some time catching up with friends\, helping each other sound check\, and just generally enjoying the mellow Folk Guild vibe. \nEthan Campbell will be the Zoom maestro\, so if you’re a musician and you’re planning to perform\, let Ethan know as soon as you come in from the Waiting Room.  He’ll get you into the next available slot.  Everybody gets two songs or eight (8) minutes\, whichever comes first.
URL:https://hudsonvalleyfolkguild.org/event/open-mic-via-zoom-dennis-douglas-2/
LOCATION:Zoom
CATEGORIES:Open Mic via Zoom
ATTACH;FMTTYPE=image/jpeg:https://hudsonvalleyfolkguild.org/wp-content/uploads/2022/08/Dennis-Pic.jpg
END:VEVENT
END:VCALENDAR