BEGIN:VCALENDAR
VERSION:2.0
PRODID:-//Hudson Valley Folk Guild - ECPv6.15.13//NONSGML v1.0//EN
CALSCALE:GREGORIAN
METHOD:PUBLISH
X-WR-CALNAME:Hudson Valley Folk Guild
X-ORIGINAL-URL:https://hudsonvalleyfolkguild.org
X-WR-CALDESC:Events for Hudson Valley Folk Guild
REFRESH-INTERVAL;VALUE=DURATION:PT1H
X-Robots-Tag:noindex
X-PUBLISHED-TTL:PT1H
BEGIN:VTIMEZONE
TZID:America/New_York
BEGIN:DAYLIGHT
TZOFFSETFROM:-0500
TZOFFSETTO:-0400
TZNAME:EDT
DTSTART:20220313T070000
END:DAYLIGHT
BEGIN:STANDARD
TZOFFSETFROM:-0400
TZOFFSETTO:-0500
TZNAME:EST
DTSTART:20221106T060000
END:STANDARD
BEGIN:DAYLIGHT
TZOFFSETFROM:-0500
TZOFFSETTO:-0400
TZNAME:EDT
DTSTART:20230312T070000
END:DAYLIGHT
BEGIN:STANDARD
TZOFFSETFROM:-0400
TZOFFSETTO:-0500
TZNAME:EST
DTSTART:20231105T060000
END:STANDARD
BEGIN:DAYLIGHT
TZOFFSETFROM:-0500
TZOFFSETTO:-0400
TZNAME:EDT
DTSTART:20240310T070000
END:DAYLIGHT
BEGIN:STANDARD
TZOFFSETFROM:-0400
TZOFFSETTO:-0500
TZNAME:EST
DTSTART:20241103T060000
END:STANDARD
END:VTIMEZONE
BEGIN:VEVENT
DTSTART;TZID=America/New_York:20230527T190000
DTEND;TZID=America/New_York:20230527T220000
DTSTAMP:20260422T073643
CREATED:20220812T202525Z
LAST-MODIFIED:20230413T154647Z
UID:1801-1685214000-1685224800@hudsonvalleyfolkguild.org
SUMMARY:Open Mic via Zoom: Mary Pazienza
DESCRIPTION:Mary Pazienza started playing guitar five years ago following her retirement\, and a lot has happened for her\, both creatively and musically\, since that time. \nIn 2019\, Mary started writing songs\, and has now published two volumes of Lyric Poems\, Livin’ The Dream and Watercolors. Her songs are introspective and wide-ranging thematically\, drawing on topics as diverse as relationships\, mental health\, social justice and food. \nMary is a regular member of the Tasty Tunes Zoom Open Mic on Thursday evenings\, and her music is featured at many local open mics\, including the three brick-and-mortar events presented by the Folk Guild. She also co-hosts an open mic at Adriance Memorial Library in Poughkeepsie. \nAs a volunteer for hospice\, Mary gets to play music for patients in their homes. \nSpecial thanks to: Jeff Armstrong @ Jeff Armstrong Music Studio and vocal coach Eve Soto @ Ready to Sing. \nYou can follow Mary at: marymusicmaking on Facebook. \n\n\n\n\n\nConnect via Zoom:\nTopic: HVFG 4th Saturday Open Mic via Zoom \n  \nFor the Zoom link\, please signup for our email newsletters\, or contact Ethan Campbell at ethan.1247@gmail.com. \n\n  \nOPEN MIC\nMusic starts at 7:30\, but if you arrive at 7:00 you can spend some time catching up with friends\, helping each other sound check\, and just generally enjoying the mellow Folk Guild vibe. \nEthan Campbell will be the Zoom maestro\, so if you’re a musician and you’re planning to perform\, let Ethan know as soon as you come in from the Waiting Room.  He’ll get you into the next available slot.  Everybody gets two songs or eight (8) minutes\, whichever comes first.
URL:https://hudsonvalleyfolkguild.org/event/open-mic-via-zoom-mary-pazienza/
LOCATION:Zoom
CATEGORIES:Open Mic via Zoom
ATTACH;FMTTYPE=image/jpeg:https://hudsonvalleyfolkguild.org/wp-content/uploads/2023/04/Mary-P.jpeg
END:VEVENT
END:VCALENDAR