BEGIN:VCALENDAR
VERSION:2.0
PRODID:-//Hudson Valley Folk Guild - ECPv6.15.13//NONSGML v1.0//EN
CALSCALE:GREGORIAN
METHOD:PUBLISH
X-ORIGINAL-URL:https://hudsonvalleyfolkguild.org
X-WR-CALDESC:Events for Hudson Valley Folk Guild
REFRESH-INTERVAL;VALUE=DURATION:PT1H
X-Robots-Tag:noindex
X-PUBLISHED-TTL:PT1H
BEGIN:VTIMEZONE
TZID:America/New_York
BEGIN:DAYLIGHT
TZOFFSETFROM:-0500
TZOFFSETTO:-0400
TZNAME:EDT
DTSTART:20220313T070000
END:DAYLIGHT
BEGIN:STANDARD
TZOFFSETFROM:-0400
TZOFFSETTO:-0500
TZNAME:EST
DTSTART:20221106T060000
END:STANDARD
BEGIN:DAYLIGHT
TZOFFSETFROM:-0500
TZOFFSETTO:-0400
TZNAME:EDT
DTSTART:20230312T070000
END:DAYLIGHT
BEGIN:STANDARD
TZOFFSETFROM:-0400
TZOFFSETTO:-0500
TZNAME:EST
DTSTART:20231105T060000
END:STANDARD
BEGIN:DAYLIGHT
TZOFFSETFROM:-0500
TZOFFSETTO:-0400
TZNAME:EDT
DTSTART:20240310T070000
END:DAYLIGHT
BEGIN:STANDARD
TZOFFSETFROM:-0400
TZOFFSETTO:-0500
TZNAME:EST
DTSTART:20241103T060000
END:STANDARD
END:VTIMEZONE
BEGIN:VEVENT
DTSTART;TZID=America/New_York:20230422T190000
DTEND;TZID=America/New_York:20230422T220000
DTSTAMP:20260422T085731
CREATED:20220812T202525Z
LAST-MODIFIED:20230405T131054Z
UID:1798-1682190000-1682200800@hudsonvalleyfolkguild.org
SUMMARY:Open Mic via Zoom: Andy Jones
DESCRIPTION:Andy Jones is a singer/songwriter inspired by an eclectic mix of ’60s San Francisco rock\, Brazilian music\, folk\, soul and jazz. His original songs are known for their rhythmic feel and life-affirming themes. He enjoys performing solo in intimate settings and on ZOOM\, as well as performing live with his band Circus of Wolves. \nAndy’s past musical credits include recording and performing with songstress Maria Muldaur\, opening twice for SF legends Jefferson Starship\, and supporting Professor Louie & The Crowmatix at B.B. King’s Blues Club in New York City. With Circus of Wolves\, Andy has performed at the two most recent Rosendale Street Festivals. The band also added Slick Aguilar from Jefferson Starship on lead guitar for gigs at The Falcon in New Windsor and The Colony in Woodstock. \nCurrently\, Andy is writing new material for a series of mini digital EPs that Circus of Wolves will be releasing over the next 18 months. \nContact: andynicholasjones@gmail.com       https://circusofwolves.com/ \n\n\n\n\n\nConnect via Zoom:\nTopic: HVFG 4th Saturday Open Mic via Zoom \n  \nFor the Zoom link\, please signup for our email newsletters\, or contact Ethan Campbell at ethan.1247@gmail.com. \n\n  \nOPEN MIC\nMusic starts at 7:30\, but if you arrive at 7:00 you can spend some time catching up with friends\, helping each other sound check\, and just generally enjoying the mellow Folk Guild vibe. \nEthan Campbell will be the Zoom maestro\, so if you’re a musician and you’re planning to perform\, let Ethan know as soon as you come in from the Waiting Room.  He’ll get you into the next available slot.  Everybody gets two songs or eight (8) minutes\, whichever comes first.
URL:https://hudsonvalleyfolkguild.org/event/open-mic-via-zoom-andy-jones/
LOCATION:Zoom
CATEGORIES:Open Mic via Zoom
ATTACH;FMTTYPE=image/jpeg:https://hudsonvalleyfolkguild.org/wp-content/uploads/2023/04/Andy-Jones-Photo.jpg
END:VEVENT
END:VCALENDAR