BEGIN:VCALENDAR
VERSION:2.0
PRODID:-//Hudson Valley Folk Guild - ECPv6.15.13//NONSGML v1.0//EN
CALSCALE:GREGORIAN
METHOD:PUBLISH
X-WR-CALNAME:Hudson Valley Folk Guild
X-ORIGINAL-URL:https://hudsonvalleyfolkguild.org
X-WR-CALDESC:Events for Hudson Valley Folk Guild
REFRESH-INTERVAL;VALUE=DURATION:PT1H
X-Robots-Tag:noindex
X-PUBLISHED-TTL:PT1H
BEGIN:VTIMEZONE
TZID:America/New_York
BEGIN:DAYLIGHT
TZOFFSETFROM:-0500
TZOFFSETTO:-0400
TZNAME:EDT
DTSTART:20220313T070000
END:DAYLIGHT
BEGIN:STANDARD
TZOFFSETFROM:-0400
TZOFFSETTO:-0500
TZNAME:EST
DTSTART:20221106T060000
END:STANDARD
BEGIN:DAYLIGHT
TZOFFSETFROM:-0500
TZOFFSETTO:-0400
TZNAME:EDT
DTSTART:20230312T070000
END:DAYLIGHT
BEGIN:STANDARD
TZOFFSETFROM:-0400
TZOFFSETTO:-0500
TZNAME:EST
DTSTART:20231105T060000
END:STANDARD
BEGIN:DAYLIGHT
TZOFFSETFROM:-0500
TZOFFSETTO:-0400
TZNAME:EDT
DTSTART:20240310T070000
END:DAYLIGHT
BEGIN:STANDARD
TZOFFSETFROM:-0400
TZOFFSETTO:-0500
TZNAME:EST
DTSTART:20241103T060000
END:STANDARD
END:VTIMEZONE
BEGIN:VEVENT
DTSTART;TZID=America/New_York:20230128T190000
DTEND;TZID=America/New_York:20230128T220000
DTSTAMP:20260422T130716
CREATED:20220812T202525Z
LAST-MODIFIED:20230122T212206Z
UID:1793-1674932400-1674943200@hudsonvalleyfolkguild.org
SUMMARY:Open Mic via Zoom: Bill Floyd
DESCRIPTION:When Bill Floyd – a/k/a William Delray Floyd – retired\, his musical “next chapter” kicked into high gear. Bill immediately began writing and recording\, and he has been prolific ever since. \nBill will shortly release his 16th album on Spotify and other streaming platforms; his music is now heard around the world. \nBill says he simply loves music\, and is not tied to any one genre. He’s done Blues\, Country\, Rock\, Reggae\, Jazz and more. \nCheck Bill out on Spotify  and on SoundCloud \nBill’s Email: bill@floydsongs.com
URL:https://hudsonvalleyfolkguild.org/event/open-mic-via-zoom-bill-floyd/
LOCATION:Zoom
CATEGORIES:Open Mic via Zoom
ATTACH;FMTTYPE=image/jpeg:https://hudsonvalleyfolkguild.org/wp-content/uploads/2022/08/Bill-Floyd.jpeg
END:VEVENT
END:VCALENDAR