BEGIN:VCALENDAR
VERSION:2.0
PRODID:-//Hudson Valley Folk Guild - ECPv6.15.13//NONSGML v1.0//EN
CALSCALE:GREGORIAN
METHOD:PUBLISH
X-WR-CALNAME:Hudson Valley Folk Guild
X-ORIGINAL-URL:https://hudsonvalleyfolkguild.org
X-WR-CALDESC:Events for Hudson Valley Folk Guild
REFRESH-INTERVAL;VALUE=DURATION:PT1H
X-Robots-Tag:noindex
X-PUBLISHED-TTL:PT1H
BEGIN:VTIMEZONE
TZID:America/New_York
BEGIN:DAYLIGHT
TZOFFSETFROM:-0500
TZOFFSETTO:-0400
TZNAME:EDT
DTSTART:20210314T070000
END:DAYLIGHT
BEGIN:STANDARD
TZOFFSETFROM:-0400
TZOFFSETTO:-0500
TZNAME:EST
DTSTART:20211107T060000
END:STANDARD
BEGIN:DAYLIGHT
TZOFFSETFROM:-0500
TZOFFSETTO:-0400
TZNAME:EDT
DTSTART:20220313T070000
END:DAYLIGHT
BEGIN:STANDARD
TZOFFSETFROM:-0400
TZOFFSETTO:-0500
TZNAME:EST
DTSTART:20221106T060000
END:STANDARD
BEGIN:DAYLIGHT
TZOFFSETFROM:-0500
TZOFFSETTO:-0400
TZNAME:EDT
DTSTART:20230312T070000
END:DAYLIGHT
BEGIN:STANDARD
TZOFFSETFROM:-0400
TZOFFSETTO:-0500
TZNAME:EST
DTSTART:20231105T060000
END:STANDARD
END:VTIMEZONE
BEGIN:VEVENT
DTSTART;TZID=America/New_York:20221022T190000
DTEND;TZID=America/New_York:20221022T220000
DTSTAMP:20260422T182944
CREATED:20220812T202525Z
LAST-MODIFIED:20221011T204331Z
UID:1593-1666465200-1666476000@hudsonvalleyfolkguild.org
SUMMARY:Open Mic via Zoom: Gary Kromirs
DESCRIPTION:Gary‘s been playing in bands for over 50 years. In the ‘80s he played the clubs in NYC including CBGBs\, Pyramid\, Limelight\, Trude Heller’s\, the Lone Star\, the Bitter End\, and SNAFU. He has performed at college events at the University of Vermont\, University of Maine\, Brooklyn College\, and SUNY New Paltz. His band was one of eight bands chosen to play at the 1st Annual New York New Rock Day at Lincoln Center. Locally he’s played with his band DogHouse as well as the Ronnie Bait Band. \nGary was in the pit band of the Phoenicia Playhouse where he played in their productions of Little Shop of Horrors\, The Last Five Years\, Oklahoma!\, The Wedding Singer and The Rocky Horror Picture Show. He also wrote\, recorded and performed his original score for the Playhouse’s rendition of Stop Kiss. Now performing regularly in the singer-songwriter genre\, Gary has rearranged much of the music he wrote for a full rock band so that it can be performed on solo acoustic guitar. His repertoire encompasses his original songs as well as an eclectic list of cover tunes. \n\n\n\n\n\n  \n\nConnect via Zoom:\nTopic: HVFG 4th Saturday Open Mic via Zoom \n  \nFor the Zoom link\, please signup for our email newsletters\, or contact Ethan Campbell at ethan.1247@gmail.com. \n\n  \nOPEN MIC\nMusic starts at 7:30\, but if you arrive at 7:00 you can spend some time catching up with friends\, helping each other sound check\, and just generally enjoying the mellow Folk Guild vibe. \nEthan Campbell will be the Zoom maestro\, so if you’re a musician and you’re planning to perform\, let Ethan know as soon as you come in from the Waiting Room.  He’ll get you into the next available slot.  Everybody gets two songs or eight (8) minutes\, whichever comes first.
URL:https://hudsonvalleyfolkguild.org/event/open-mic-via-zoom-gary-kromirs/
LOCATION:Zoom
CATEGORIES:Open Mic via Zoom
ATTACH;FMTTYPE=image/jpeg:https://hudsonvalleyfolkguild.org/wp-content/uploads/2020/12/Gary-Kromirs-final.jpg
END:VEVENT
END:VCALENDAR